BEGIN:VCALENDAR
VERSION:2.0
PRODID:-//Tytsjerk - ECPv6.15.13//NONSGML v1.0//EN
CALSCALE:GREGORIAN
METHOD:PUBLISH
X-WR-CALNAME:Tytsjerk
X-ORIGINAL-URL:https://tytsjerk.nl
X-WR-CALDESC:Evenementen voor Tytsjerk
REFRESH-INTERVAL;VALUE=DURATION:PT1H
X-Robots-Tag:noindex
X-PUBLISHED-TTL:PT1H
BEGIN:VTIMEZONE
TZID:UTC
BEGIN:STANDARD
TZOFFSETFROM:+0000
TZOFFSETTO:+0000
TZNAME:UTC
DTSTART:20250101T000000
END:STANDARD
END:VTIMEZONE
BEGIN:VEVENT
DTSTART;TZID=UTC:20260308T170000
DTEND;TZID=UTC:20260308T200000
DTSTAMP:20260421T040923
CREATED:20251224T124126Z
LAST-MODIFIED:20260216T214130Z
UID:1970-1772989200-1773000000@tytsjerk.nl
SUMMARY:Ratatouille d’Amour Theaterdiner Inez Timmer & Paul Horjus
DESCRIPTION:Een heerlijk avondje uit! Een straatmuzikant in Parijs begeeft zich op een avontuurlijke reis om zijn ouders te zoeken die per ongeluk in de Seine zijn beland en weggedreven naar het onbekende. Een interactieve avond vol stoere verhalen\, romantiek\, liefde\, chansons en walvissen. Waan je in een Frans restaurant\, geniet van de ratatouille en van een muzikaal theaterspektakel met Inez Timmer en Paul Horjus. \nEen vertelling met licht absurde ontsporingen en liedjes. Een heerlijke ratjetoe of beter gezegd een ratatouille van afwisseling\, muziek en vrolijke absurditeiten. Inloop vanaf 16:45 uur. Voor diner (door vrijwilligers uit Tytsjerk gemaakt) en de voorstelling betaal je slechts € 39\,50. \nReserveren: culturelecommissietytsjerk@outlook.com of www.tytsjerk.nl/culturelecommissie
URL:https://tytsjerk.nl/event/8-maart-1700-u-ratatouille-damour-theaterdiner/
LOCATION:Yn’ e Mande
ATTACH;FMTTYPE=image/jpeg:https://tytsjerk.nl/wp-content/uploads/2025/12/Inez-Timmer-en-Paul-Horjus.jpg
END:VEVENT
END:VCALENDAR