BEGIN:VCALENDAR
VERSION:2.0
PRODID:-//Tytsjerk - ECPv6.15.13//NONSGML v1.0//EN
CALSCALE:GREGORIAN
METHOD:PUBLISH
X-WR-CALNAME:Tytsjerk
X-ORIGINAL-URL:https://tytsjerk.nl
X-WR-CALDESC:Evenementen voor Tytsjerk
REFRESH-INTERVAL;VALUE=DURATION:PT1H
X-Robots-Tag:noindex
X-PUBLISHED-TTL:PT1H
BEGIN:VTIMEZONE
TZID:UTC
BEGIN:STANDARD
TZOFFSETFROM:+0000
TZOFFSETTO:+0000
TZNAME:UTC
DTSTART:20240101T000000
END:STANDARD
END:VTIMEZONE
BEGIN:VEVENT
DTSTART;TZID=UTC:20251001T160000
DTEND;TZID=UTC:20251001T200000
DTSTAMP:20260421T121048
CREATED:20250922T134711Z
LAST-MODIFIED:20250922T135840Z
UID:1863-1759334400-1759348800@tytsjerk.nl
SUMMARY:Gezellige middag & Avond in Tytsjerk - KEaRN
DESCRIPTION:Meer informatie over deze middag via doetie.vanderlijn@kearn.nl of freerk.mesker@kearn.nl
URL:https://tytsjerk.nl/event/gezellige-middag-avond-in-tytsjerk-kearn/
LOCATION:Yn’ e Mande
ATTACH;FMTTYPE=image/png:https://tytsjerk.nl/wp-content/uploads/2025/09/Kearn-22-09.png
ORGANIZER;CN="KEaRN":MAILTO:alie@kearn.nl
END:VEVENT
BEGIN:VEVENT
DTSTART;TZID=UTC:20251004T200000
DTEND;TZID=UTC:20251004T220000
DTSTAMP:20260421T121048
CREATED:20250915T214624Z
LAST-MODIFIED:20250915T214624Z
UID:1860-1759608000-1759615200@tytsjerk.nl
SUMMARY:Theater De Dames Slier & A'KoorT Tytsjerk: Jarig!
DESCRIPTION:Jierdei! Jarig! \n4 Oktober is het feest. Laat je meevoeren in het hartverscheurende verhaal van een moeder die een verrassingsfeest organiseert voor haar dochter. Maar\, wil dochterlief haar verjaardag wel vieren? Met een optreden van A’KoorT en andere artiesten spelen en zingen De Dames Slier op humoristische wijze het feest naar een wankel hoogtepunt.A’KoorT\, het koor van Tytsjerk en omgeving\, zingt een gevarieeerd repertoire: van klassiek naar hedendaags\, van madrigaal naar cabaret. Dit alles onder leiding van Jelmer Scholte (uit Tytsjerk) die niet alleen dirigeert\, maar ook veel stukken arrangeert. En nu is er dan een unieke samenwerking met Theater De Dames Slier. Voor de pauze ligt het accent op muzikale feest en de  theatermakers met hun combo. Na de pauze sluit A’KoorT dit bijzondere muzikale feest af. \nReserveren: culturelecommissietytsjerk@outlook.com
URL:https://tytsjerk.nl/event/theater-de-dames-slier-akoort-tytsjerk-jarig/
LOCATION:Yn’ e Mande
END:VEVENT
BEGIN:VEVENT
DTSTART;TZID=UTC:20251008T173000
DTEND;TZID=UTC:20251008T203000
DTSTAMP:20260421T121048
CREATED:20241230T094925Z
LAST-MODIFIED:20250928T144028Z
UID:1569-1759944600-1759955400@tytsjerk.nl
SUMMARY:Tytsjerk Open Tafel
DESCRIPTION:
URL:https://tytsjerk.nl/event/tytsjerk-open-tafel-3/
LOCATION:Yn’ e Mande
CATEGORIES:MFC Tytsjerk
ATTACH;FMTTYPE=image/jpeg:https://tytsjerk.nl/wp-content/uploads/2024/12/open-tafel-2-e1759070254290.jpg
ORGANIZER;CN="Anneke Bakker":MAILTO:peteranneke52@outlook.com
END:VEVENT
BEGIN:VEVENT
DTSTART;TZID=UTC:20251018T203000
DTEND;TZID=UTC:20251018T235900
DTSTAMP:20260421T121048
CREATED:20250418T215102Z
LAST-MODIFIED:20250606T101008Z
UID:1761-1760819400-1760831940@tytsjerk.nl
SUMMARY:Trienes en Klaas Henstra in De Mande
DESCRIPTION:
URL:https://tytsjerk.nl/event/trienes-en-klaas-henstra-de-doelleazen-muziekfeest/
LOCATION:Yn’ e Mande
CATEGORIES:Cultuur,MFC Tytsjerk
END:VEVENT
BEGIN:VEVENT
DTSTART;TZID=UTC:20251031T150000
DTEND;TZID=UTC:20251031T160000
DTSTAMP:20260421T121048
CREATED:20251021T211154Z
LAST-MODIFIED:20251021T211319Z
UID:1910-1761922800-1761926400@tytsjerk.nl
SUMMARY:Cupcakes versieren voor basisschool leerlingen
DESCRIPTION:
URL:https://tytsjerk.nl/event/cupcakes-versieren-voor-basisschool-leerlingen/
LOCATION:Yn’ e Mande
CATEGORIES:Cultuur,MFC Tytsjerk
ATTACH;FMTTYPE=image/jpeg:https://tytsjerk.nl/wp-content/uploads/2025/10/Afbeelding-van-WhatsApp-op-2025-10-21-om-22.44.53_0dd28771.jpg
END:VEVENT
END:VCALENDAR