BEGIN:VCALENDAR
VERSION:2.0
PRODID:-//Tytsjerk - ECPv6.15.13//NONSGML v1.0//EN
CALSCALE:GREGORIAN
METHOD:PUBLISH
X-WR-CALNAME:Tytsjerk
X-ORIGINAL-URL:https://tytsjerk.nl
X-WR-CALDESC:Evenementen voor Tytsjerk
REFRESH-INTERVAL;VALUE=DURATION:PT1H
X-Robots-Tag:noindex
X-PUBLISHED-TTL:PT1H
BEGIN:VTIMEZONE
TZID:UTC
BEGIN:STANDARD
TZOFFSETFROM:+0000
TZOFFSETTO:+0000
TZNAME:UTC
DTSTART:20240101T000000
END:STANDARD
END:VTIMEZONE
BEGIN:VEVENT
DTSTART;VALUE=DATE:20250603
DTEND;VALUE=DATE:20250609
DTSTAMP:20260421T181220
CREATED:20250416T071255Z
LAST-MODIFIED:20250528T202332Z
UID:1746-1748908800-1749427199@tytsjerk.nl
SUMMARY:Dorpsfeest Tytsjerk 2025
DESCRIPTION:Programma dorpsfeest in het kort\nVoor het hele programma\, klik hier: Programma Dorpsfeest Tytsjerk 2025 \n\n\n\nDinsdag: \n\n\n\n\n18.00 uur: opening feestweek\n\n\n\n18.15 uur: start van de volleybalwedstrijden\n\n\n\nNa de finale is de tent open voor een drankje en volgt de prijsuitreiking\n\n\n\n\nWoensdag: \n\n\n\n\n18.00 uur: verzamelen voor het kaatsen waar de spelregels kort uitgelegd worden\n\n\n\n18.15 uur: start van de kaatswedstrijden (sportvelden voor de kantine)\n\n\n\nNa de finale is de prijsuitreiking en zal er livemuziek zijn tot 23.30 uur.\n\n\n\n\nDonderdag: \n\n\n\n\n12.00 uur: 55+ lunch met terugblikken van vorig gebeurtenissen en dorpsfeesten van Tytsjerk. Dit met mooie verhalen en foto’s van Wopke Scholte en Mohamed Yettefti\n\n\n\n14.00 uur: kermis is open\n\n\n\n19.30 uur: tent geopend voor toneelavond voor een prachtige voorstelling van acteertalent uit eigen dorp.\n\n\n\n\nNa het toneel zal de bar geopend zijn\, voor een gezellige afsluiting. \n\n\n\nVrijdag: \n\n\n\n\nKinderfeest\, informatie hierover volgt nog.\n\n\n\n14:00 uur: kermis\, snackwagens en tent zullen geopend zijn.\n\n\n\n21:30 uur: de tent is geopend voor de Feestavond en Flame maakt er een verbluffende show van.\n\n\n\n\nZaterdag: \n\n\n\n\n10.00 uur: verzamelen in de tent en om uitleg te geven over de activiteiten van de ochtend + start zeskamp.\n\n\n\n10.30 uur: kermis en snackwagens open.\n\n\n\n14.00 uur: verkleed matinee\n\n\n\n15:30 uur: de winnende straat wordt bekend gemaakt.\n\n\n\n\nZondag: \n\n\n\n\n10.30 uur: inloop voor de dienst.\n\n\n\n11.00 uur: kerkdienst onder leiding van Dominee Binne van de Boon
URL:https://tytsjerk.nl/event/dorpsfeest-tytsjerk/
LOCATION:Sportveld Tytsjerk\, Rijksstraatweg 20\, Tytsjerk\, Fryslân\, Nederland
ORGANIZER;CN="Feestcommissie Tietjerk":MAILTO:fcttytsjerk@hotmail.nl
END:VEVENT
BEGIN:VEVENT
DTSTART;TZID=UTC:20250609T110000
DTEND;TZID=UTC:20250609T170000
DTSTAMP:20260421T181220
CREATED:20250418T214221Z
LAST-MODIFIED:20250418T214528Z
UID:1753-1749466800-1749488400@tytsjerk.nl
SUMMARY:Pinkstermaandag: Dag van het Kasteel
DESCRIPTION:Kom Pinkstermaandag naar Park Vijversburg en beleef de “Dag van het Kasteel”. Dit jaar staat dit landelijk evenement in het teken van “Naar Buiten!” en dus zullen de meeste activiteiten ook buiten plaatsvinden. Op dit moment wordt er nog hard gewerkt aan het programma van deze dag.
URL:https://tytsjerk.nl/event/pinkstermaandag-dag-van-het-kasteel/
LOCATION:Vijversburg\, Park Vijversburg\, Tytsjerk\, Fryslan\, Nederland
CATEGORIES:Cultuur
ORGANIZER;CN="Park Vijversburg":MAILTO:info@vijversburg.nl
END:VEVENT
BEGIN:VEVENT
DTSTART;TZID=UTC:20250621T170000
DTEND;TZID=UTC:20250621T220000
DTSTAMP:20260421T181220
CREATED:20250418T214454Z
LAST-MODIFIED:20250418T214454Z
UID:1756-1750525200-1750543200@tytsjerk.nl
SUMMARY:Mid Simmer Art Festival
DESCRIPTION:Geniet op zaterdag 21 juni van de langste dag in Park Vijversburg. Het park dat normaal gesproken geopend is tot 18.00 uur\, is deze dag extra lang geopend. Vanaf 17.00 – 22.00 uur wordt het Mid Simmer Art Festival georganiseerd. \nBezoek meer dan 35 kraampjes gevuld met de mooiste kunstwerken\, doe mee aan verschillende workshops zoals botanisch tekenen\, maak zelf een gedicht en geniet van de muziek. En heb je weleens een date met een kunstwerk gehad? Vergeet niet om bijzondere kunstwerken mee te nemen\, want het is namelijk mogelijk om deze te laten taxeren. \nEntree: € 5\,- vanaf 12 jaar. Tot 12 jaar € 2\,50 en met vriendenkaart € 2\,50 korting.
URL:https://tytsjerk.nl/event/mid-simmer-art-festival/
LOCATION:Vijversburg\, Park Vijversburg\, Tytsjerk\, Fryslan\, Nederland
CATEGORIES:Cultuur
ORGANIZER;CN="Park Vijversburg":MAILTO:info@vijversburg.nl
END:VEVENT
BEGIN:VEVENT
DTSTART;TZID=UTC:20250621T193000
DTEND;TZID=UTC:20250621T230000
DTSTAMP:20260421T181220
CREATED:20250418T214825Z
LAST-MODIFIED:20250418T214825Z
UID:1759-1750534200-1750546800@tytsjerk.nl
SUMMARY:Big Mill Band & Wijnproeverij
DESCRIPTION:
URL:https://tytsjerk.nl/event/big-mill-band-wijnproeverij/
LOCATION:Yn’ e Mande
END:VEVENT
END:VCALENDAR