BEGIN:VCALENDAR
VERSION:2.0
PRODID:-//Tytsjerk - ECPv6.15.13//NONSGML v1.0//EN
CALSCALE:GREGORIAN
METHOD:PUBLISH
X-WR-CALNAME:Tytsjerk
X-ORIGINAL-URL:https://tytsjerk.nl
X-WR-CALDESC:Evenementen voor Tytsjerk
REFRESH-INTERVAL;VALUE=DURATION:PT1H
X-Robots-Tag:noindex
X-PUBLISHED-TTL:PT1H
BEGIN:VTIMEZONE
TZID:UTC
BEGIN:STANDARD
TZOFFSETFROM:+0000
TZOFFSETTO:+0000
TZNAME:UTC
DTSTART:20210101T000000
END:STANDARD
END:VTIMEZONE
BEGIN:VEVENT
DTSTART;TZID=UTC:20221104T200000
DTEND;TZID=UTC:20221104T220000
DTSTAMP:20260420T123139
CREATED:20221016T151723Z
LAST-MODIFIED:20221016T151944Z
UID:968-1667592000-1667599200@tytsjerk.nl
SUMMARY:Concert dorpskerk Tytsjerk
DESCRIPTION:Concert dorpskerk Tytsjerk \nMuziek uit de sixties! \nMet: \nJelle de Jong – orgel\nJaap Wagenaar – zang/gitaar\nRonald Postema – piano\nSydo van der Bijl – trompet\nMichiel Offringa – hobo \nEntree € 5\,-\nDeuren open: 19.30 uur\nAanvang: 20.00 uur
URL:https://tytsjerk.nl/event/concert-dorpskerk-tytsjerk/
LOCATION:buorren 42 Tytsjerk
END:VEVENT
BEGIN:VEVENT
DTSTART;TZID=UTC:20221106T150000
DTEND;TZID=UTC:20221106T180000
DTSTAMP:20260420T123139
CREATED:20221014T055725Z
LAST-MODIFIED:20221014T061807Z
UID:921-1667746800-1667757600@tytsjerk.nl
SUMMARY:Bijke\, Joke Tjalsma & Theun Plantinga\, Pier21
DESCRIPTION:Bijke\, Joke Tjalsma & Theun Plantinga\, Pier21 (kaarten VanPlan.nl) \nTeaser: https://youtu.be/L25hBJbxsOQ \nTeaser: https://youtu.be/QA-KlXcB2cU \nTrailer: https://youtu.be/F6Wao8wqNuw \nPier21 – Bijke Cultureel Centrum/Dorpshuis Yn ‘e Mande TYTSJERK\, 06-11-22 – VanPlan \nwww.vanplan.nl
URL:https://tytsjerk.nl/event/bijke-joke-tjalsma-theun-plantinga-pier21/
LOCATION:Yn’ e Mande
END:VEVENT
BEGIN:VEVENT
DTSTART;TZID=UTC:20221118T193000
DTEND;TZID=UTC:20221118T210000
DTSTAMP:20260420T123139
CREATED:20221112T162333Z
LAST-MODIFIED:20221112T164201Z
UID:1011-1668799800-1668805200@tytsjerk.nl
SUMMARY:Verhalenavond
DESCRIPTION:Culturele en activiteitencommissie Tytsjerk\n18 november vanaf 19:00 uur zijn jullie welkom in de huiskamers van gasthuis Op Toutenburg.  \n\n\nWaar en wie dan?\n\n\n\nnr 31: mevr. Oosterloo en Zahira Arrahaoui\nnr 29: Jan Hofman\nnr 27: Toos Reichman en Paul de Haas\nnr 25: Hannie Kuiper Bosma\nnr 23: Rob vd Vegt\nnr 19: Agnes Hakkenberg\nnr 11: Thies Harm Veenstra\n\n\n\nJe bent welkom!! Het is met vrije inloop\, maar wel even melden bij tafel met chocolademelk voor de huisjes. Voor vragen kun je mailen naar culturelecommissietytsjerk@outlook.com of Ineke Kalteren 0619876661
URL:https://tytsjerk.nl/event/verhalenavond/
LOCATION:Zwartewegsend
END:VEVENT
BEGIN:VEVENT
DTSTART;TZID=UTC:20221119T133000
DTEND;TZID=UTC:20221119T163000
DTSTAMP:20260420T123139
CREATED:20221108T211935Z
LAST-MODIFIED:20221108T211935Z
UID:995-1668864600-1668875400@tytsjerk.nl
SUMMARY:Sinterklaasintocht in Tytsjerk
DESCRIPTION:Het aftellen is weer begonnen voor alle kinderen in Tytsjerk! Op zaterdag 19 november komt Sinterklaas met al zijn pieten aan in Tytsjerk. We gaan er voor zorgen dat het weer een mooi feest wordt voor iedereen. \nDe optocht start om 13.30h vanaf de Jister\, waarna Sinterklaas zich naar het Dorpshuis Yn’e Mande zal begeven. Wees op tijd\, het zal weer ouderwets druk en gezellig zijn! \nGraag tot ziens op zaterdag 19 november a.s.!
URL:https://tytsjerk.nl/event/sinterklaasintocht-in-tytsjerk/
LOCATION:De Jister Tytsjerk\, De Jister\, Tytsjerk\, 9255 KM\, Nederland
END:VEVENT
END:VCALENDAR