BEGIN:VCALENDAR
VERSION:2.0
PRODID:-//Tytsjerk - ECPv6.15.13//NONSGML v1.0//EN
CALSCALE:GREGORIAN
METHOD:PUBLISH
X-ORIGINAL-URL:https://tytsjerk.nl
X-WR-CALDESC:Evenementen voor Tytsjerk
REFRESH-INTERVAL;VALUE=DURATION:PT1H
X-Robots-Tag:noindex
X-PUBLISHED-TTL:PT1H
BEGIN:VTIMEZONE
TZID:UTC
BEGIN:STANDARD
TZOFFSETFROM:+0000
TZOFFSETTO:+0000
TZNAME:UTC
DTSTART:20210101T000000
END:STANDARD
END:VTIMEZONE
BEGIN:VEVENT
DTSTART;TZID=UTC:20220626T150000
DTEND;TZID=UTC:20220626T163000
DTSTAMP:20260422T151515
CREATED:20220626T120551Z
LAST-MODIFIED:20220626T120551Z
UID:877-1656255600-1656261000@tytsjerk.nl
SUMMARY:Jazzmuziek op terras
DESCRIPTION:Op maandagmorgen één keer in de twee weken komt in het dorpshuis in Tytsjerk een zestal ervaren muzikanten bijeen om met liefde de oude stijl jazz muziek te beoefenen. Vooral voor eigen plezier\, maar af en toe ook voor dat van anderen. Op zondagmiddag 26 juni van 15.00 tot 16.30 uur spelen ze op het terras van het dorpshuis in Tytsjerk\, Noarderein 1 De toegang is gratis. Leuk als je komt! Twee jaar geleden was het zeer gezellig.\nDe band bestaat uit Martin Wiersma (cornet)\, Yde Faas (saxofoon)\, Johan Verwilligen (klarinet)\, Freerk Jedema (piano)\, Carlo de Groot (drums)\, Derk Bolt (bas) en Gerrit van der Sar (banjo). Ook zijn er gastmuzikanten\, waaronder Hans Lampers\, oud bandlid.\n\n\nMocht het regenen\, dan gaat het concert niet door. Mogelijk doen we dan in augustus een nieuwe poging. Op deze pagina wordt bij dubieus weer vermeld of het concert doorgaat. Bellen bij twijfel kan dan ook: 06 23121383.
URL:https://tytsjerk.nl/event/jazzmuziek-op-terras/
LOCATION:Yn’ e Mande
END:VEVENT
END:VCALENDAR