BEGIN:VCALENDAR
VERSION:2.0
PRODID:-//Tytsjerk - ECPv6.15.13//NONSGML v1.0//EN
CALSCALE:GREGORIAN
METHOD:PUBLISH
X-ORIGINAL-URL:https://tytsjerk.nl
X-WR-CALDESC:Evenementen voor Tytsjerk
REFRESH-INTERVAL;VALUE=DURATION:PT1H
X-Robots-Tag:noindex
X-PUBLISHED-TTL:PT1H
BEGIN:VTIMEZONE
TZID:UTC
BEGIN:STANDARD
TZOFFSETFROM:+0000
TZOFFSETTO:+0000
TZNAME:UTC
DTSTART:20210101T000000
END:STANDARD
END:VTIMEZONE
BEGIN:VEVENT
DTSTART;TZID=UTC:20220303T193000
DTEND;TZID=UTC:20220303T210000
DTSTAMP:20260423T144055
CREATED:20220216T205533Z
LAST-MODIFIED:20220220T110205Z
UID:662-1646335800-1646341200@tytsjerk.nl
SUMMARY:Uitnodiging informatiebijeenkomst MFC Tytsjerk 3 maart
DESCRIPTION:MFC Tytsjerk\nUitnodiging 3 Maart\n\n\n\n\nGraag nodigen wij u\, als dorpsbewoners en toekomstig gebruikers van het MFC uit voor een eerste informatiebijeenkomst over de voorlopige ontwerpen en ontwikkelingen rondom het MFC Tytsjerk.We laten u graag zien wat er tot dusver bereikt is en waar we nu staan in het proces. \n\n\n\n\nDaarom is er een bijeenkomst georganiseerd waarin we dieper op de details in zullen gaan. \nHierbij is tevens de architect aanwezig die u graag vertelt over het MFC en waar de mogelijkheid is om vragen te stellen. \n\n\n\n\nWanneer: Tijdstip: Waar: \n\n\nDonderdag 3 Maart 2022\nVanaf 19.30 uur\nDorpshuis Yn ‘e Mande\, Tytsjerk \n\n\n  \nMeer informatie vindt u op onze speciale MFC informatiepagina
URL:https://tytsjerk.nl/event/uitnodiging-informatiebijeenkomst-mfc-tytsjerk-3-maart/
LOCATION:Yn’ e Mande
ORGANIZER;CN="Dorpsbelangen Tytsjerk":MAILTO:dorpsbelangtytsjerk@gmail.com
END:VEVENT
BEGIN:VEVENT
DTSTART;TZID=UTC:20220311T203000
DTEND;TZID=UTC:20220311T233000
DTSTAMP:20260423T144055
CREATED:20220304T193618Z
LAST-MODIFIED:20220304T193800Z
UID:741-1647030600-1647041400@tytsjerk.nl
SUMMARY:Party Night!
DESCRIPTION:Vrijdag 11 maart feest met partyband Sunshine!\n\n\n\nAanvang 20.30 uur. Entree: € 10\,-
URL:https://tytsjerk.nl/event/party-night/
LOCATION:Yn’ e Mande
END:VEVENT
BEGIN:VEVENT
DTSTART;TZID=UTC:20220316T070000
DTEND;TZID=UTC:20220316T210000
DTSTAMP:20260423T144055
CREATED:20220304T194222Z
LAST-MODIFIED:20220304T194258Z
UID:746-1647414000-1647464400@tytsjerk.nl
SUMMARY:Gemeenteraadsverkiezingen
DESCRIPTION:STEMBUREAU \n16 maart Gemeenteraadsverkiezingen
URL:https://tytsjerk.nl/event/gemeenteraadsverkiezingen/
LOCATION:Yn’ e Mande
END:VEVENT
END:VCALENDAR