BEGIN:VCALENDAR
VERSION:2.0
PRODID:-//Tytsjerk - ECPv6.15.13//NONSGML v1.0//EN
CALSCALE:GREGORIAN
METHOD:PUBLISH
X-ORIGINAL-URL:https://tytsjerk.nl
X-WR-CALDESC:Evenementen voor Tytsjerk
REFRESH-INTERVAL;VALUE=DURATION:PT1H
X-Robots-Tag:noindex
X-PUBLISHED-TTL:PT1H
BEGIN:VTIMEZONE
TZID:UTC
BEGIN:STANDARD
TZOFFSETFROM:+0000
TZOFFSETTO:+0000
TZNAME:UTC
DTSTART:20200101T000000
END:STANDARD
END:VTIMEZONE
BEGIN:VEVENT
DTSTART;TZID=UTC:20211031T150000
DTEND;TZID=UTC:20211031T180000
DTSTAMP:20260423T223904
CREATED:20210814T225816Z
LAST-MODIFIED:20210909T211959Z
UID:475-1635692400-1635703200@tytsjerk.nl
SUMMARY:Wat soesto
DESCRIPTION:Culturele Commissie \nPier 21 \nFreark Smink had een diepe wens om nog één keer een voorstelling te schrijven en na drie jaar onderzoek\, interviews en probeersels is het gelukt met ‘Wat soesto!’ Hij heeft een indringend portret geschreven over een hedendaagse boer in een bijzondere familie gebaseerd op eigen ervaringen uit het verleden. \nOnder de regie van Jos Thie speelt Freark Smink zelf de boer en Klaasje Postma zijn moeder. Na ‘De Emigrant’\, ‘Feteranen’ en ‘It wie op in Simmerjûn’ is hiermee opnieuw een bijzondere voorstelling van Pier21 `Ik bin in boeresoan. Myn pake wie boer\, myn heit wie boer en ik bin it. Dêr bin ik grutsk op. Niks mear\, niks minder. Ik ha wolris lêzen dat je as bern je eigen âlders útsykje. As dat sa is\, dan ha ik raar yn ’e war west. Myn mem is okee. Dy besiket altyd te skipperjen en hat in hekel oan rúzje.  Mei myn heit is dat oars\,’ neffens Frans yn \n`Wat soesto!’. Op  31 oktober 2021om 15:00 in Yn ‘e Mande in Tytsjerk. \n=> Wachtlijstplaats voor Kaarten € 19\,50 p.p. te  reserveren bij: culturelecommissietytsjerk@outlook.com (eerst op een wachtlijst omdat we nu nog niet weten wat het maximaal aantal bezoekers mag zijn op 31 oktober) \nWat Soesto! \nmet Freark Smink & Klaasje Postma
URL:https://tytsjerk.nl/event/wat-soesto/
LOCATION:Yn’ e Mande
END:VEVENT
END:VCALENDAR