BEGIN:VCALENDAR
VERSION:2.0
PRODID:-//Tytsjerk - ECPv6.15.13//NONSGML v1.0//EN
CALSCALE:GREGORIAN
METHOD:PUBLISH
X-ORIGINAL-URL:https://tytsjerk.nl
X-WR-CALDESC:Evenementen voor Tytsjerk
REFRESH-INTERVAL;VALUE=DURATION:PT1H
X-Robots-Tag:noindex
X-PUBLISHED-TTL:PT1H
BEGIN:VTIMEZONE
TZID:UTC
BEGIN:STANDARD
TZOFFSETFROM:+0000
TZOFFSETTO:+0000
TZNAME:UTC
DTSTART:20200101T000000
END:STANDARD
END:VTIMEZONE
BEGIN:VEVENT
DTSTART;TZID=UTC:20210926T150000
DTEND;TZID=UTC:20210926T180000
DTSTAMP:20260424T002156
CREATED:20210909T212822Z
LAST-MODIFIED:20210911T090530Z
UID:500-1632668400-1632679200@tytsjerk.nl
SUMMARY:Opening  culturele seizoen Tytsjerk
DESCRIPTION:26 september 2021\nOpening  culturele seizoen Tytsjerk  met\naangeklede pop-luistermuziekshow\nEen grote show\, voor een klein prijsje. Heerlijke pop- luistermuziek\, lekkere hapjes en een dansshow. Het zit er allemaal in. \nEen band van 4-5 man en twee dansers en  een speciale catering met Hendrika Wedzinga en Marja Riedstra . Wij zij zo blij dat deze mensen met hun vrolijke humeur ons culturele seizoen gaan inleiden. \nEen noflike zondagmiddag voor jong en oud. in de grote zaal van Yn ‘e Mande en bij mooi weer gaan we naar buiten. \nVoor het dekken van de kosten vragen we een tientje. Je kunt je aanmelden bij \nculturelecommissietytsjerk@oulook.com
URL:https://tytsjerk.nl/event/opening-culturele-seizoen-tytsjerk/
LOCATION:Yn’ e Mande
END:VEVENT
END:VCALENDAR