BEGIN:VCALENDAR
VERSION:2.0
PRODID:-//Tytsjerk - ECPv6.15.13//NONSGML v1.0//EN
CALSCALE:GREGORIAN
METHOD:PUBLISH
X-ORIGINAL-URL:https://tytsjerk.nl
X-WR-CALDESC:Evenementen voor Tytsjerk
REFRESH-INTERVAL;VALUE=DURATION:PT1H
X-Robots-Tag:noindex
X-PUBLISHED-TTL:PT1H
BEGIN:VTIMEZONE
TZID:UTC
BEGIN:STANDARD
TZOFFSETFROM:+0000
TZOFFSETTO:+0000
TZNAME:UTC
DTSTART:20250101T000000
END:STANDARD
END:VTIMEZONE
BEGIN:VEVENT
DTSTART;TZID=UTC:20260606T093000
DTEND;TZID=UTC:20260606T113000
DTSTAMP:20260420T225211
CREATED:20250131T000427Z
LAST-MODIFIED:20260420T162032Z
UID:1662-1780738200-1780745400@tytsjerk.nl
SUMMARY:Repaircafé MFC Tytsjerk
DESCRIPTION:Milieu\, duurzaamheid\, hergebruik\, kostenbesparing\, allemaal begrippen die de achterliggende gedachte vormen van het Repaircafé. In de wintermaanden is elke eerste zaterdagmorgen van de maand het Repaircafé geopend voor mensen die een apparaat hebben dat het niet (goed) meer doet en die denken “Misschien is het nog te repareren’. \nVier tot zes deskundige dorpsgenoten buigen zich met plezier over uw kapotte eigendom. Ook uw computerprobleem lossen we graag op. De Repair-vrijwilligers zijn Ate Draaisma\, Gerrit van der Sar\, Geuvert Hoogkamp\, Harry Logtenberg\, Hendrik Jan Hiemstra\, Jan Meijer\, Luc Cordia\, Sam van der Meulen en Willem Hoving\, We zitten in de ruimte van de Boekehoeke op de bovenverdieping van het vernieuwde dorpshuis. Er is een lift voor mensen die slecht ter been zijn of zware spullen hebben. \n \nReparaties zijn gratis maar een kleine bijdrage voor de koffie voor de vrijwilligers\, wordt op prijs gesteld. Ook voor de gasten is er koffie\, we heten niet voor niets Repaircafé. De Boekehoeke is op deze ochtend ook geopend. De Repair-ochtenden zijn op de zaterdagen 6 september\, en daarna iedere eerste zaterdagochtend van de maand. Steeds van 09.30 – 11.30 uur. Na 11 uur nemen we geen grote klussen meer aan. Voor verdere informatie 06 2312 1383 (Gerrit van der Sar)
URL:https://tytsjerk.nl/event/repaircafe-mfc-tytsjerk/
LOCATION:Yn’ e Mande
CATEGORIES:MFC Tytsjerk
ATTACH;FMTTYPE=image/jpeg:https://tytsjerk.nl/wp-content/uploads/2025/01/reclamedoek.jpg
END:VEVENT
BEGIN:VEVENT
DTSTART;TZID=UTC:20260704T093000
DTEND;TZID=UTC:20260704T113000
DTSTAMP:20260420T225211
CREATED:20250131T000802Z
LAST-MODIFIED:20260420T162118Z
UID:1664-1783157400-1783164600@tytsjerk.nl
SUMMARY:Repaircafé MFC Tytsjerk
DESCRIPTION:Milieu\, duurzaamheid\, hergebruik\, kostenbesparing\, allemaal begrippen die de achterliggende gedachte vormen van het Repaircafé. In de wintermaanden is elke eerste zaterdagmorgen van de maand het Repaircafé geopend voor mensen die een apparaat hebben dat het niet (goed) meer doet en die denken “Misschien is het nog te repareren’. \n \nVier tot zes deskundige dorpsgenoten buigen zich met plezier over uw kapotte eigendom. Ook uw computerprobleem lossen we graag op. De Repair-vrijwilligers zijn Ate Draaisma\, Gerrit van der Sar\, Geuvert Hoogkamp\, Harry Logtenberg\, Hendrik Jan Hiemstra\, Jan Meijer\, Luc Cordia\, Sam van der Meulen en Willem Hoving\, We zitten in de ruimte van de Boekehoeke op de bovenverdieping van het vernieuwde dorpshuis. Er is een lift voor mensen die slecht ter been zijn of zware spullen hebben. \nReparaties zijn gratis maar een kleine bijdrage voor de koffie voor de vrijwilligers\, wordt op prijs gesteld. Ook voor de gasten is er koffie\, we heten niet voor niets Repaircafé. De Boekehoeke is op deze ochtend ook geopend. De Repair-ochtend is dit voorjaar nog op de zaterdag 3 mei. Steeds van 09.30 – 11.30 uur. Na 11 uur nemen we geen grote klussen meer aan. Voor verdere informatie 06 2312 1383 (Gerrit van der Sar)
URL:https://tytsjerk.nl/event/repaircafe-mfc-tytsjerk-2/
LOCATION:Yn’ e Mande
CATEGORIES:MFC Tytsjerk
ATTACH;FMTTYPE=image/jpeg:https://tytsjerk.nl/wp-content/uploads/2025/01/reclamedoek.jpg
END:VEVENT
BEGIN:VEVENT
DTSTART;TZID=UTC:20261004T150000
DTEND;TZID=UTC:20261004T170000
DTSTAMP:20260420T225211
CREATED:20260329T210259Z
LAST-MODIFIED:20260329T210416Z
UID:2053-1791126000-1791133200@tytsjerk.nl
SUMMARY:Debby Petter met teksten van echtgenoot Youp van 't Hek
DESCRIPTION:Cabaratière Debby Petter speelt een monoloog over alle gemiste afslagen in het leven. De tekst is geschreven door Youp van ’t Hek. Begeleiding door Emma Finkers (harp)
URL:https://tytsjerk.nl/event/2053/
LOCATION:Yn’ e Mande
END:VEVENT
BEGIN:VEVENT
DTSTART;TZID=UTC:20261011T150000
DTEND;TZID=UTC:20261011T170000
DTSTAMP:20260420T225211
CREATED:20260316T202312Z
LAST-MODIFIED:20260316T202312Z
UID:2044-1791730800-1791738000@tytsjerk.nl
SUMMARY:Bennie Huisman & Tseard Nauta: De Wals
DESCRIPTION:In deze meertalige voorstelling komen muziek\, verhalen\, poëzie en theater samen in een persoonlijk en filosofisch verhaal over een leven in de kunst. Zondag 11 oktober\, Yn ‘e Mande Tytsjerk. \nDe Wals vertelt het verhaal van een zanger die terugblikt op zijn lange leven — een bestaan doordrenkt van stem\, muziek\, taal\, liedjes en verhalen. Wat is er geworden van zijn dromen en verwachtingen? Wat heeft hij betekend voor de wereld om hem heen\, groot én klein? En had hij niet iets ‘nuttigers’ kunnen doen dan zingen\, dichten en vertellen? \nIn een tijd waarin persoonlijke expressie steeds vaker wordt overgenomen door kunstmatige intelligentie\, voelt hij de urgentie om zijn verhaal nog één keer te delen. Over vallen en opstaan\, verdwalen en terugvinden. Over vragen waarop niet altijd een antwoord komt. \nBennie Huisman (1947) is al meer dan veertig jaar actief als zanger\, dichter\, verteller en muzikant. Hij schrijft en zingt in meerdere talen en publiceerde gedichten\, cd’s\, reisverhalen\, biografieën en romans. Tot het begin van deze eeuw maakte en speelde hij zes theatervoorstellingen\, samen met onder anderen Tseard Nauta\, Frederike Kleefstra en Corinne Staal. Zijn zoektocht naar het podium voor muzikaal-literaire voorstellingen loopt als een rode draad door zijn werk. \nTseard Nauta (1962) leeft en ademt muziek. Hij bespeelt een breed scala aan snaar-\, toets- en blaasinstrumenten en vond zijn plek in het muziektheater als muzikant\, componist\, arrangeur en dirigent. Als medeoprichter van de klezmergroep Di Gojim trad hij op in binnen- en buitenland en was hij regelmatig te zien en te horen op radio en televisie.
URL:https://tytsjerk.nl/event/bennie-huisman-tseard-nauta-de-wals/
LOCATION:Yn’ e Mande
END:VEVENT
BEGIN:VEVENT
DTSTART;TZID=UTC:20261101T150000
DTEND;TZID=UTC:20261101T170000
DTSTAMP:20260420T225211
CREATED:20260316T201218Z
LAST-MODIFIED:20260316T201235Z
UID:2040-1793545200-1793552400@tytsjerk.nl
SUMMARY:Pier21 met 'Wat spilet'
DESCRIPTION:Wat spiet is een intiem en humoristisch theaterstuk met Anna Raadsveld en Merel Staalstra.\nEen verhaal over familie\, geheimen en hoe oude pijn onbewust doorwerkt in het heden. Het script is van Roos Bottinga en de regie is in handen van Mara van Vlijmen. \nTijdens een besloten repetitie ontmoeten we een jonge regisseuse en een gevierde actrice. Wat begint als een zoektocht naar spel\, ontspoort wanneer de actrice vastloopt in haar Friese memmetaal. Oude woorden roepen oude pijn op. Een verzwegen familiegeschiedenis dringt zich onverbiddelijk naar de oppervlakte. Wat spilet laat zien hoe patronen en pijn van eerdere generaties ons nog altijd beïnvloeden en nodigt uit tot reflectie: welke verhalen dragen wij zelf mee\, en welke geven we door?
URL:https://tytsjerk.nl/event/pier21-met-wat-spilet/
LOCATION:Yn’ e Mande
END:VEVENT
END:VCALENDAR