BEGIN:VCALENDAR
VERSION:2.0
PRODID:-//Tytsjerk - ECPv6.15.13//NONSGML v1.0//EN
CALSCALE:GREGORIAN
METHOD:PUBLISH
X-WR-CALNAME:Tytsjerk
X-ORIGINAL-URL:https://tytsjerk.nl
X-WR-CALDESC:Evenementen voor Tytsjerk
REFRESH-INTERVAL;VALUE=DURATION:PT1H
X-Robots-Tag:noindex
X-PUBLISHED-TTL:PT1H
BEGIN:VTIMEZONE
TZID:UTC
BEGIN:STANDARD
TZOFFSETFROM:+0000
TZOFFSETTO:+0000
TZNAME:UTC
DTSTART:20250101T000000
END:STANDARD
END:VTIMEZONE
BEGIN:VEVENT
DTSTART;TZID=UTC:20260424T143000
DTEND;TZID=UTC:20260424T153000
DTSTAMP:20260421T073315
CREATED:20260420T161727Z
LAST-MODIFIED:20260420T161727Z
UID:2069-1777041000-1777044600@tytsjerk.nl
SUMMARY:Jeugdwurk Kookworkshop
DESCRIPTION:
URL:https://tytsjerk.nl/event/jeugdwurk-kookworkshop/
LOCATION:Yn’ e Mande
CATEGORIES:Cultuur,MFC Tytsjerk
ATTACH;FMTTYPE=image/png:https://tytsjerk.nl/wp-content/uploads/2026/04/header-2.png
END:VEVENT
BEGIN:VEVENT
DTSTART;TZID=UTC:20260424T160000
DTEND;TZID=UTC:20260424T170000
DTSTAMP:20260421T073315
CREATED:20260420T161241Z
LAST-MODIFIED:20260420T161758Z
UID:2065-1777046400-1777050000@tytsjerk.nl
SUMMARY:Jeugdwurk Kookworkshop
DESCRIPTION:
URL:https://tytsjerk.nl/event/jeugdwurk-kookwerkshop/
LOCATION:Yn’ e Mande
CATEGORIES:Cultuur,MFC Tytsjerk
ATTACH;FMTTYPE=image/png:https://tytsjerk.nl/wp-content/uploads/2026/04/header.png
END:VEVENT
END:VCALENDAR