BEGIN:VCALENDAR
VERSION:2.0
PRODID:-//Tytsjerk - ECPv6.15.13//NONSGML v1.0//EN
CALSCALE:GREGORIAN
METHOD:PUBLISH
X-ORIGINAL-URL:https://tytsjerk.nl
X-WR-CALDESC:Evenementen voor Tytsjerk
REFRESH-INTERVAL;VALUE=DURATION:PT1H
X-Robots-Tag:noindex
X-PUBLISHED-TTL:PT1H
BEGIN:VTIMEZONE
TZID:UTC
BEGIN:STANDARD
TZOFFSETFROM:+0000
TZOFFSETTO:+0000
TZNAME:UTC
DTSTART:20240101T000000
END:STANDARD
END:VTIMEZONE
BEGIN:VEVENT
DTSTART;TZID=UTC:20251213T190000
DTEND;TZID=UTC:20251213T210000
DTSTAMP:20260421T103942
CREATED:20251206T121542Z
LAST-MODIFIED:20251206T121542Z
UID:1954-1765652400-1765659600@tytsjerk.nl
SUMMARY:Lichtjestocht in Park Vijversburg
DESCRIPTION:Op zaterdagavond 13 december opent Park Vijversburg haar deuren voor een unieke lichtjestocht. Het park is deze avond sfeervol verlicht met honderden kaarsjes. Bezoekers worden uitgenodigd om in hun eigen tempo door het prachtig verlichte park te wandelen en zich mee te laten nemen in een betoverende vertelling. \nTijdens de tocht wordt het klassieke sprookje “Het meisje met de zwavelstokjes” tot leven gebracht. Vertellers verbinden het verhaal op een eigentijdse manier met het heden\, waarbij thema’s als hoop\, warmte en zorg voor elkaar centraal staan. Het sprookje nodigt uit om stil te staan bij onze eigen rol in de samenleving: Wat kunnen we doen voor een ander?  De combinatie van de sfeervolle verlichting en de verbeelding van het sprookje zorgt voor een verstilde belevenis tijdens de winterse avond met een moment van reflectie en verbondenheid. \nAan het einde van de wandeling worden bezoekers verwelkomd in Villa Vijversburg waar zij kunnen genieten van een heerlijk warm drankje. Aansluitend volgt in het sfeervol met kaarsen verlichte Paviljoen een intiem concert door het trio “Swa’t & Co” met prachtige luisterliedjes. \nGoed om te weten: \n\nDe entree bedraagt € 5\,- en is inclusief het warme drankje en het concert.\nHet concert duurt 25 minuten en start op de volgende momenten in het glazen Paviljoen aan het einde van de wandeling:\n\n20.00 uur\n20.30 uur\n21.00 uur\n\n\nDeze activiteit wordt buiten de reguliere openingstijden van het park aangeboden en dus biedt de vriendenkaart geen gratis toegang.\nStarten vanaf de hoofdingang tussen 19.00 – 20.00 uur\, aanmelden is niet nodig. VOL=VOL\nDe activiteit is geschikt voor jong en oud.\nDeelname aan de tocht is geheel op eigen risico. Het is donker in het park en dus is er extra struikelgevaar.\nHet parkeerterrein is niet verlicht\, graag zelf een zaklampje meenemen.\nTrek warme kleren en stevige schoenen aan.\n\nDeze wandeling wordt mede mogelijk gemaakt door de enthousiaste inzet van Vrijwilligers van Vijversburg en een studente van Firda. \nFoto: Marcel van Kammen \nLichtjestocht – Park Vijversburg
URL:https://tytsjerk.nl/event/lichtjestocht-in-park-vijversburg/
LOCATION:Vijversburg\, Park Vijversburg\, Tytsjerk\, Fryslan\, Nederland
ATTACH;FMTTYPE=image/jpeg:https://tytsjerk.nl/wp-content/uploads/2025/12/Lichtjestocht-1024x682-1.jpg
ORGANIZER;CN="Park Vijversburg":MAILTO:info@vijversburg.nl
END:VEVENT
END:VCALENDAR