BEGIN:VCALENDAR
VERSION:2.0
PRODID:-//Tytsjerk - ECPv6.15.13//NONSGML v1.0//EN
CALSCALE:GREGORIAN
METHOD:PUBLISH
X-ORIGINAL-URL:https://tytsjerk.nl
X-WR-CALDESC:Evenementen voor Tytsjerk
REFRESH-INTERVAL;VALUE=DURATION:PT1H
X-Robots-Tag:noindex
X-PUBLISHED-TTL:PT1H
BEGIN:VTIMEZONE
TZID:UTC
BEGIN:STANDARD
TZOFFSETFROM:+0000
TZOFFSETTO:+0000
TZNAME:UTC
DTSTART:20240101T000000
END:STANDARD
END:VTIMEZONE
BEGIN:VEVENT
DTSTART;TZID=UTC:20251001T160000
DTEND;TZID=UTC:20251001T200000
DTSTAMP:20260421T133545
CREATED:20250922T134711Z
LAST-MODIFIED:20250922T135840Z
UID:1863-1759334400-1759348800@tytsjerk.nl
SUMMARY:Gezellige middag & Avond in Tytsjerk - KEaRN
DESCRIPTION:Meer informatie over deze middag via doetie.vanderlijn@kearn.nl of freerk.mesker@kearn.nl
URL:https://tytsjerk.nl/event/gezellige-middag-avond-in-tytsjerk-kearn/
LOCATION:Yn’ e Mande
ATTACH;FMTTYPE=image/png:https://tytsjerk.nl/wp-content/uploads/2025/09/Kearn-22-09.png
ORGANIZER;CN="KEaRN":MAILTO:alie@kearn.nl
END:VEVENT
END:VCALENDAR