BEGIN:VCALENDAR
VERSION:2.0
PRODID:-//Tytsjerk - ECPv6.15.13//NONSGML v1.0//EN
CALSCALE:GREGORIAN
METHOD:PUBLISH
X-ORIGINAL-URL:https://tytsjerk.nl
X-WR-CALDESC:Evenementen voor Tytsjerk
REFRESH-INTERVAL;VALUE=DURATION:PT1H
X-Robots-Tag:noindex
X-PUBLISHED-TTL:PT1H
BEGIN:VTIMEZONE
TZID:UTC
BEGIN:STANDARD
TZOFFSETFROM:+0000
TZOFFSETTO:+0000
TZNAME:UTC
DTSTART:20240101T000000
END:STANDARD
END:VTIMEZONE
BEGIN:VEVENT
DTSTART;VALUE=DATE:20250426
DTEND;VALUE=DATE:20250427
DTSTAMP:20260421T225130
CREATED:20250216T130943Z
LAST-MODIFIED:20250416T070442Z
UID:1693-1745625600-1745711999@tytsjerk.nl
SUMMARY:Koningsdag in Tytsjerk
DESCRIPTION:Dit jaar organiseren we weer koningsdag in Tytsjerk. Het terras is open\, er is een rommelmarkt en nog veel meer.
URL:https://tytsjerk.nl/event/koningsdag-in-tytsjerk/
LOCATION:Yn’ e Mande
ATTACH;FMTTYPE=image/jpeg:https://tytsjerk.nl/wp-content/uploads/2025/02/feae9a2c-6c40-4b31-8cbb-dd67d9dd2eba.jpg
END:VEVENT
END:VCALENDAR