BEGIN:VCALENDAR
VERSION:2.0
PRODID:-//Tytsjerk - ECPv6.15.13//NONSGML v1.0//EN
CALSCALE:GREGORIAN
METHOD:PUBLISH
X-WR-CALNAME:Tytsjerk
X-ORIGINAL-URL:https://tytsjerk.nl
X-WR-CALDESC:Evenementen voor Tytsjerk
REFRESH-INTERVAL;VALUE=DURATION:PT1H
X-Robots-Tag:noindex
X-PUBLISHED-TTL:PT1H
BEGIN:VTIMEZONE
TZID:UTC
BEGIN:STANDARD
TZOFFSETFROM:+0000
TZOFFSETTO:+0000
TZNAME:UTC
DTSTART:20240101T000000
END:STANDARD
END:VTIMEZONE
BEGIN:VEVENT
DTSTART;TZID=UTC:20250412T090000
DTEND;TZID=UTC:20250412T143000
DTSTAMP:20260421T225113
CREATED:20250111T115130Z
LAST-MODIFIED:20250211T152134Z
UID:1641-1744448400-1744468200@tytsjerk.nl
SUMMARY:37e Radiovlooienmarkt Tytsjerk
DESCRIPTION:Op 12 april 2025 organiseert VERON Afdeling Friesland-Noord de 37e radiovlooienmarkt in Yn ‘e Mande Tytsjerk. \nDe markt is geopend van 9.00 – 14.30
URL:https://tytsjerk.nl/event/37e-radiovlooienmarkt-tytsjerk/
ORGANIZER;CN="Dorpshuis Yn'e Mande":MAILTO:verhuur.dorpshuis@ynemande.onmicrosoft.com
END:VEVENT
END:VCALENDAR