BEGIN:VCALENDAR
VERSION:2.0
PRODID:-//Tytsjerk - ECPv6.15.13//NONSGML v1.0//EN
CALSCALE:GREGORIAN
METHOD:PUBLISH
X-ORIGINAL-URL:https://tytsjerk.nl
X-WR-CALDESC:Evenementen voor Tytsjerk
REFRESH-INTERVAL;VALUE=DURATION:PT1H
X-Robots-Tag:noindex
X-PUBLISHED-TTL:PT1H
BEGIN:VTIMEZONE
TZID:UTC
BEGIN:STANDARD
TZOFFSETFROM:+0000
TZOFFSETTO:+0000
TZNAME:UTC
DTSTART:20240101T000000
END:STANDARD
END:VTIMEZONE
BEGIN:VEVENT
DTSTART;TZID=UTC:20250330T150000
DTEND;TZID=UTC:20250330T170000
DTSTAMP:20260422T002440
CREATED:20250221T143953Z
LAST-MODIFIED:20250326T153214Z
UID:1704-1743346800-1743354000@tytsjerk.nl
SUMMARY:KLAP: Ella and her man (middagconcert)
DESCRIPTION:
URL:https://tytsjerk.nl/event/klap-ella-and-her-man-middagconcert/
LOCATION:Yn’ e Mande
END:VEVENT
END:VCALENDAR