BEGIN:VCALENDAR
VERSION:2.0
PRODID:-//Tytsjerk - ECPv6.15.13//NONSGML v1.0//EN
CALSCALE:GREGORIAN
METHOD:PUBLISH
X-WR-CALNAME:Tytsjerk
X-ORIGINAL-URL:https://tytsjerk.nl
X-WR-CALDESC:Evenementen voor Tytsjerk
REFRESH-INTERVAL;VALUE=DURATION:PT1H
X-Robots-Tag:noindex
X-PUBLISHED-TTL:PT1H
BEGIN:VTIMEZONE
TZID:UTC
BEGIN:STANDARD
TZOFFSETFROM:+0000
TZOFFSETTO:+0000
TZNAME:UTC
DTSTART:20240101T000000
END:STANDARD
END:VTIMEZONE
BEGIN:VEVENT
DTSTART;TZID=UTC:20250103T200000
DTEND;TZID=UTC:20250103T220000
DTSTAMP:20260422T100243
CREATED:20241027T204044Z
LAST-MODIFIED:20241027T204044Z
UID:1480-1735934400-1735941600@tytsjerk.nl
SUMMARY:Klaverjassen competitie
DESCRIPTION:Er zijn per ronde mooie vleesprijzen te winnen\, we zien jullie graag in ‘It Fjirde Fak’. Meer informatie via Wopke Bosch. \n 
URL:https://tytsjerk.nl/event/klaverjassen-competitie-3/
LOCATION:It Fjirde Fak\, Rijksstraatweg 18\, Tytsjerk\, Fryslân\, 9255 XE\, Netherlands
ORGANIZER;CN="KV De W%C3%A2ldklappers":MAILTO:penningmeesterdewaldklappers@gmail.com
END:VEVENT
END:VCALENDAR