BEGIN:VCALENDAR
VERSION:2.0
PRODID:-//Tytsjerk - ECPv6.15.13//NONSGML v1.0//EN
CALSCALE:GREGORIAN
METHOD:PUBLISH
X-ORIGINAL-URL:https://tytsjerk.nl
X-WR-CALDESC:Evenementen voor Tytsjerk
REFRESH-INTERVAL;VALUE=DURATION:PT1H
X-Robots-Tag:noindex
X-PUBLISHED-TTL:PT1H
BEGIN:VTIMEZONE
TZID:UTC
BEGIN:STANDARD
TZOFFSETFROM:+0000
TZOFFSETTO:+0000
TZNAME:UTC
DTSTART:20230101T000000
END:STANDARD
END:VTIMEZONE
BEGIN:VEVENT
DTSTART;TZID=UTC:20241201T150000
DTEND;TZID=UTC:20241201T170000
DTSTAMP:20260420T093758
CREATED:20241027T194203Z
LAST-MODIFIED:20241027T194505Z
UID:1454-1733065200-1733072400@tytsjerk.nl
SUMMARY:De Bajes: Liefde\, moord en ander ongemak met Henk Dillerop
DESCRIPTION:Verhalen over liefde\, moord en ander ongemak – Henk Dillerop\n\n\n\n  \nVerhalen over liefde\, moord en ander ongemak. \nHenk Dillerop heeft ruim veertig jaar gewerkt tussen criminelen.  Hij sprak met moordenaars\, verkrachters\, overvallers drugshandelaren en brandstichters. De afgelopen zestien jaar als gevangenisdirecteur en daarvoor zesentwintig jaar als rechercheur bijzondere zaken en als chef van de criminele inlichtingen dienst. \nDaarnaast is Henk al twintig jaar actief als dichter\, organiseert hij graag kleinschalige  kunst- en cultuurevenementen en hij is betrokken bij diverse theaterproducties. Hij gaf inmiddels vijf poëzie  bundels uit. Henk neemt je in zijn verhalen en gedichten mee in de wereld van art & crime. \nMomenteel maakt Henk samen met onderzoeksjournalist Margriet Brandsma en Geartsje de Vries van Omrop Fryslan de true crime podcast ‘Sicco\, de verdwenen marechaussee en helpt hij ‘achter de schermen’ mee aan de oplossing van een onopgeloste moord op een jonge vrouw. Tot slot werkt hij mee aan een nieuwe televisieserie over het leven in de gevangenis en in 2025 verschijnt een roman\, die is gebaseerd op het werkzame leven van Henk. \nKosten: € 10\,- \nReserveren via: culturelecommissietytsjerk@outlook.com
URL:https://tytsjerk.nl/event/de-bajes-liefde-moord-en-ander-ongemak-met-henk-dillerop/
LOCATION:Schoolgebouw It Lemieren\, Wylgekamp 59\, Tytsjerk\, Fryslân\, 9255 JL\, Nederland
END:VEVENT
END:VCALENDAR