BEGIN:VCALENDAR
VERSION:2.0
PRODID:-//Tytsjerk - ECPv6.15.13//NONSGML v1.0//EN
CALSCALE:GREGORIAN
METHOD:PUBLISH
X-WR-CALNAME:Tytsjerk
X-ORIGINAL-URL:https://tytsjerk.nl
X-WR-CALDESC:Evenementen voor Tytsjerk
REFRESH-INTERVAL;VALUE=DURATION:PT1H
X-Robots-Tag:noindex
X-PUBLISHED-TTL:PT1H
BEGIN:VTIMEZONE
TZID:UTC
BEGIN:STANDARD
TZOFFSETFROM:+0000
TZOFFSETTO:+0000
TZNAME:UTC
DTSTART:20230101T000000
END:STANDARD
END:VTIMEZONE
BEGIN:VEVENT
DTSTART;TZID=UTC:20241127T200000
DTEND;TZID=UTC:20241127T200000
DTSTAMP:20260422T100320
CREATED:20241027T195606Z
LAST-MODIFIED:20241121T154839Z
UID:1462-1732737600-1732737600@tytsjerk.nl
SUMMARY:Vrijwilligersbijeenkomst Doarpshûs Yn'e Mande
DESCRIPTION:Een nieuw MFC wordt een groter succes met de kracht uit Tytsjerk.\nHeb jij een leuk idee voor het dorpshuis\, wil je meehelpen als vrijwilliger of bestuurder?\nMeld je dan aan bij het bestuur via inekal@chello.nl of 06-19876661\nOf scan één van de QR-codes hieronder
URL:https://tytsjerk.nl/event/vrijwilligersbijeenkomst-doarpshus-yne-mande/
LOCATION:Yn’ e Mande
ORGANIZER;CN="Dorpshuis Yn'e Mande":MAILTO:verhuur.dorpshuis@ynemande.onmicrosoft.com
END:VEVENT
END:VCALENDAR