BEGIN:VCALENDAR
VERSION:2.0
PRODID:-//Tytsjerk - ECPv6.15.13//NONSGML v1.0//EN
CALSCALE:GREGORIAN
METHOD:PUBLISH
X-ORIGINAL-URL:https://tytsjerk.nl
X-WR-CALDESC:Evenementen voor Tytsjerk
REFRESH-INTERVAL;VALUE=DURATION:PT1H
X-Robots-Tag:noindex
X-PUBLISHED-TTL:PT1H
BEGIN:VTIMEZONE
TZID:UTC
BEGIN:STANDARD
TZOFFSETFROM:+0000
TZOFFSETTO:+0000
TZNAME:UTC
DTSTART:20230101T000000
END:STANDARD
END:VTIMEZONE
BEGIN:VEVENT
DTSTART;VALUE=DATE:20241113
DTEND;VALUE=DATE:20241114
DTSTAMP:20260420T093855
CREATED:20241027T202715Z
LAST-MODIFIED:20241027T202715Z
UID:1469-1731456000-1731542399@tytsjerk.nl
SUMMARY:Lezing over vakmanschap edelsmid - juwelier
DESCRIPTION:Pure ambacht\nZe werkte heel wat jaren als ambtenaar\, was daarnaast creatief met keramiek en sieraden\, maar wilde elf jaar geleden écht haar passie volgen en het vak leren. Geartsje Dupon deed de vakopleiding tot goudsmid in Schoonhoven om haar dit ambacht meester te maken. \n \nEn dat lukte! Ze nam afscheid van haar oude werk en begon in het pittoreske Mûnein (Molenend\, op z’n Nederlands)\, onder de rook van Leeuwarden haar eigen werkplaats met winkel: Dupon Edelsmid & Juwelier. Daar verkoopt ze haar eigen ontwerpen en een kleine collectie ingekochte sieraden van bijzondere merken. Dupon Edelsmid & Juwelier maakt ook werk in opdracht\, repareert sieraden en maakt ze oude sieraden weer als nieuw. Het vak van goudsmid is een heel nauwkeurig beroep. Het vraagt naast passie en grote nauwkeurigheid ook om creativiteit en inlevingsvermogen. Sieraden zijn immers bijna altijd verbonden met bijzondere gebeurtenissen of herinneringen. Die emotie vangen in een mooie gouden of zilveren sieraad is het vak van Geartsje Dupon. \nLezing door Geartsje Dupon \nMeer informatie via Vrouwen van Nu\, Tytsjerk (Ietje Menger)
URL:https://tytsjerk.nl/event/lezing-over-vakmanschap-edelsmid-juwelier/
LOCATION:Schoolgebouw It Lemieren\, Wylgekamp 59\, Tytsjerk\, Fryslân\, 9255 JL\, Nederland
END:VEVENT
END:VCALENDAR