BEGIN:VCALENDAR
VERSION:2.0
PRODID:-//Tytsjerk - ECPv6.15.13//NONSGML v1.0//EN
CALSCALE:GREGORIAN
METHOD:PUBLISH
X-ORIGINAL-URL:https://tytsjerk.nl
X-WR-CALDESC:Evenementen voor Tytsjerk
REFRESH-INTERVAL;VALUE=DURATION:PT1H
X-Robots-Tag:noindex
X-PUBLISHED-TTL:PT1H
BEGIN:VTIMEZONE
TZID:UTC
BEGIN:STANDARD
TZOFFSETFROM:+0000
TZOFFSETTO:+0000
TZNAME:UTC
DTSTART:20230101T000000
END:STANDARD
END:VTIMEZONE
BEGIN:VEVENT
DTSTART;VALUE=DATE:20241101
DTEND;VALUE=DATE:20241109
DTSTAMP:20260420T093800
CREATED:20241027T201238Z
LAST-MODIFIED:20241027T201322Z
UID:1465-1730419200-1731110399@tytsjerk.nl
SUMMARY:Inzamelingsactie Voedselbank Tytsjerksteradiel
DESCRIPTION:“Mei-inoar troch de tiid!” \nArmoede\, veraf en zeer zichtbaar. We weten ervan en kunnen de beelden in- en uitschakelen. \nArmoede\, veelal onzichtbaar maar dichtbij. Daar weten we vaak niet van. \nStille armoede. \nSamen met andere sociale instanties in de gemeente wil de voedselbank Tytsjerksteradiel een steentje bijdragen aan de oplossingen voor de niet gewenste “armoede”. \nEn daar wil de PKN kerk van Tytsjerk aan meehelpen door ook dit jaar rond dankdag (6 november 2024) een inzamelingsactie voor de voedselbank te organiseren. Met deze actie willen we graag de voorraden van de voedselbank Tytsjerksteradiel aanvullen. Het gaat daarbij vooral om houdbare producten\, zie in de flyer hieronder. \nHelpt u mee om de actie weer tot een groot succes te maken? \n \n 
URL:https://tytsjerk.nl/event/inzamelingsactie-voedselbank-tytsjerksteradiel/
END:VEVENT
END:VCALENDAR