BEGIN:VCALENDAR
VERSION:2.0
PRODID:-//Tytsjerk - ECPv6.15.13//NONSGML v1.0//EN
CALSCALE:GREGORIAN
METHOD:PUBLISH
X-ORIGINAL-URL:https://tytsjerk.nl
X-WR-CALDESC:Evenementen voor Tytsjerk
REFRESH-INTERVAL;VALUE=DURATION:PT1H
X-Robots-Tag:noindex
X-PUBLISHED-TTL:PT1H
BEGIN:VTIMEZONE
TZID:UTC
BEGIN:STANDARD
TZOFFSETFROM:+0000
TZOFFSETTO:+0000
TZNAME:UTC
DTSTART:20210101T000000
END:STANDARD
END:VTIMEZONE
BEGIN:VEVENT
DTSTART;TZID=UTC:20221106T150000
DTEND;TZID=UTC:20221106T180000
DTSTAMP:20260420T093855
CREATED:20221014T055725Z
LAST-MODIFIED:20221014T061807Z
UID:921-1667746800-1667757600@tytsjerk.nl
SUMMARY:Bijke\, Joke Tjalsma & Theun Plantinga\, Pier21
DESCRIPTION:Bijke\, Joke Tjalsma & Theun Plantinga\, Pier21 (kaarten VanPlan.nl) \nTeaser: https://youtu.be/L25hBJbxsOQ \nTeaser: https://youtu.be/QA-KlXcB2cU \nTrailer: https://youtu.be/F6Wao8wqNuw \nPier21 – Bijke Cultureel Centrum/Dorpshuis Yn ‘e Mande TYTSJERK\, 06-11-22 – VanPlan \nwww.vanplan.nl
URL:https://tytsjerk.nl/event/bijke-joke-tjalsma-theun-plantinga-pier21/
LOCATION:Yn’ e Mande
END:VEVENT
END:VCALENDAR