BEGIN:VCALENDAR
VERSION:2.0
PRODID:-//Tytsjerk - ECPv6.15.13//NONSGML v1.0//EN
CALSCALE:GREGORIAN
METHOD:PUBLISH
X-ORIGINAL-URL:https://tytsjerk.nl
X-WR-CALDESC:Evenementen voor Tytsjerk
REFRESH-INTERVAL;VALUE=DURATION:PT1H
X-Robots-Tag:noindex
X-PUBLISHED-TTL:PT1H
BEGIN:VTIMEZONE
TZID:UTC
BEGIN:STANDARD
TZOFFSETFROM:+0000
TZOFFSETTO:+0000
TZNAME:UTC
DTSTART:20210101T000000
END:STANDARD
END:VTIMEZONE
BEGIN:VEVENT
DTSTART;TZID=UTC:20221030T150000
DTEND;TZID=UTC:20221030T180000
DTSTAMP:20260422T100416
CREATED:20221014T055523Z
LAST-MODIFIED:20221014T055745Z
UID:919-1667142000-1667152800@tytsjerk.nl
SUMMARY:Echt Wier\, Jan Arendz en Marijke Geersma
DESCRIPTION:Echt Wier\, Jan Arendz en Marijke Geersma (hast útferkocht)
URL:https://tytsjerk.nl/event/echt-wier-jan-arendz-en-marijke-geersma/
LOCATION:Yn’ e Mande
END:VEVENT
END:VCALENDAR