BEGIN:VCALENDAR
VERSION:2.0
PRODID:-//Tytsjerk - ECPv6.15.13//NONSGML v1.0//EN
CALSCALE:GREGORIAN
METHOD:PUBLISH
X-ORIGINAL-URL:https://tytsjerk.nl
X-WR-CALDESC:Evenementen voor Tytsjerk
REFRESH-INTERVAL;VALUE=DURATION:PT1H
X-Robots-Tag:noindex
X-PUBLISHED-TTL:PT1H
BEGIN:VTIMEZONE
TZID:UTC
BEGIN:STANDARD
TZOFFSETFROM:+0000
TZOFFSETTO:+0000
TZNAME:UTC
DTSTART:20210101T000000
END:STANDARD
END:VTIMEZONE
BEGIN:VEVENT
DTSTART;TZID=UTC:20220520T080000
DTEND;TZID=UTC:20220521T235900
DTSTAMP:20260423T035928
CREATED:20220424T131316Z
LAST-MODIFIED:20220424T131316Z
UID:848-1653033600-1653177540@tytsjerk.nl
SUMMARY:Kleintje Dorpsfeest
DESCRIPTION:Kleintje dorpsfeest \n20 en 21 mei 2022 \nIn en om Yn’e Mande
URL:https://tytsjerk.nl/event/kleintje-dorpsfeest/
LOCATION:Yn’ e Mande
END:VEVENT
BEGIN:VEVENT
DTSTART;TZID=UTC:20220521T080000
DTEND;TZID=UTC:20220521T233000
DTSTAMP:20260423T035928
CREATED:20220424T131915Z
LAST-MODIFIED:20220424T131915Z
UID:850-1653120000-1653175800@tytsjerk.nl
SUMMARY:Kleintje dorpsfeest
DESCRIPTION:Kleintje dorpsfeest \n20 en 21 mei 2022 \nIn en om Yn’e Mande
URL:https://tytsjerk.nl/event/kleintje-dorpsfeest-2/
LOCATION:Yn’ e Mande
END:VEVENT
END:VCALENDAR