BEGIN:VCALENDAR
VERSION:2.0
PRODID:-//Tytsjerk - ECPv6.15.13//NONSGML v1.0//EN
CALSCALE:GREGORIAN
METHOD:PUBLISH
X-ORIGINAL-URL:https://tytsjerk.nl
X-WR-CALDESC:Evenementen voor Tytsjerk
REFRESH-INTERVAL;VALUE=DURATION:PT1H
X-Robots-Tag:noindex
X-PUBLISHED-TTL:PT1H
BEGIN:VTIMEZONE
TZID:UTC
BEGIN:STANDARD
TZOFFSETFROM:+0000
TZOFFSETTO:+0000
TZNAME:UTC
DTSTART:20210101T000000
END:STANDARD
END:VTIMEZONE
BEGIN:VEVENT
DTSTART;TZID=UTC:20220430T163000
DTEND;TZID=UTC:20220430T230000
DTSTAMP:20260422T223039
CREATED:20220317T145324Z
LAST-MODIFIED:20220317T151658Z
UID:776-1651336200-1651359600@tytsjerk.nl
SUMMARY:Karantêne (5e)
DESCRIPTION:Karantêne (5e) is in teatrale en keunstsinnige rûngong troch in diel fan it doarp Tytsjerk en Park Vijversburg. De rûngong is basearre op ferhalen oer de steat fan de boaijum. Ierde\, wetter en soerstof as de basis fan it libben. Karantêne sil nog spile wurde op 30 april en 1 maaie. \nKaarten: http://www.karantene.nl
URL:https://tytsjerk.nl/event/karantene-5e/
LOCATION:Vijversburg\, Park Vijversburg\, Tytsjerk\, Fryslan\, Nederland
END:VEVENT
END:VCALENDAR