BEGIN:VCALENDAR
VERSION:2.0
PRODID:-//Tytsjerk - ECPv6.15.13//NONSGML v1.0//EN
CALSCALE:GREGORIAN
METHOD:PUBLISH
X-WR-CALNAME:Tytsjerk
X-ORIGINAL-URL:https://tytsjerk.nl
X-WR-CALDESC:Evenementen voor Tytsjerk
REFRESH-INTERVAL;VALUE=DURATION:PT1H
X-Robots-Tag:noindex
X-PUBLISHED-TTL:PT1H
BEGIN:VTIMEZONE
TZID:UTC
BEGIN:STANDARD
TZOFFSETFROM:+0000
TZOFFSETTO:+0000
TZNAME:UTC
DTSTART:20210101T000000
END:STANDARD
END:VTIMEZONE
BEGIN:VEVENT
DTSTART;TZID=UTC:20220423T163000
DTEND;TZID=UTC:20220423T230000
DTSTAMP:20260423T083730
CREATED:20220317T144656Z
LAST-MODIFIED:20220410T090328Z
UID:770-1650731400-1650754800@tytsjerk.nl
SUMMARY:Karantêne (2e)
DESCRIPTION:Karantêne (2e) is in teatrale en keunstsinnige rûngong troch in diel fan it doarp Tytsjerk en Park Vijversburg. De rûngong is basearre op ferhalen oer de steat fan de boaijum. Ierde\, wetter en soerstof as de basis fan it libben. Karantêne sil spile wurde op 23\, 24\, 29\, 30 april en 1 maaie. \n22\, 23\, 24 april ÚTVERKOCHT! \nKaarten: http://www.karantene.nl
URL:https://tytsjerk.nl/event/karantene-2e/
LOCATION:Vijversburg\, Park Vijversburg\, Tytsjerk\, Fryslan\, Nederland
END:VEVENT
END:VCALENDAR