BEGIN:VCALENDAR
VERSION:2.0
PRODID:-//Tytsjerk - ECPv6.15.13//NONSGML v1.0//EN
CALSCALE:GREGORIAN
METHOD:PUBLISH
X-ORIGINAL-URL:https://tytsjerk.nl
X-WR-CALDESC:Evenementen voor Tytsjerk
REFRESH-INTERVAL;VALUE=DURATION:PT1H
X-Robots-Tag:noindex
X-PUBLISHED-TTL:PT1H
BEGIN:VTIMEZONE
TZID:UTC
BEGIN:STANDARD
TZOFFSETFROM:+0000
TZOFFSETTO:+0000
TZNAME:UTC
DTSTART:20200101T000000
END:STANDARD
END:VTIMEZONE
BEGIN:VEVENT
DTSTART;TZID=UTC:20211120T103000
DTEND;TZID=UTC:20211120T160000
DTSTAMP:20260423T223905
CREATED:20211116T133356Z
LAST-MODIFIED:20211116T133529Z
UID:569-1637404200-1637424000@tytsjerk.nl
SUMMARY:Sinterklaas intocht Tytsjerk
DESCRIPTION:Zaterdag 20 november zal Sinterklaas weer zijn intocht maken in Tytsjerk. \n\n\n\nGezien de huidige situatie is het helaas niet mogelijk om een gezamenlijke intocht te houden. De Sint wil de kinderen natuurlijk wel graag ontmoeten en zal daarom meerdere locaties in het dorp bezoeken. Bewoners uit de aangegeven straten kunnen zich op de aangegeven locatie verzamelen om Sinterklaas en zijn pieten te verwelkomen. Sinterklaas zou het leuk vinden als de kinderen tijdens zijn bezoek gezamenlijk dansen op het lied “Pepernoot” van Frans Duijts en Pietje Fernando. De pieten verzorgen de muziek In de bijlage zit een kleurplaat en cijfertekening\, één van deze tekeningen kan bij de pieten ingeleverd worden inruil voor iets lekkers! De tekeningen kunnen ook opgehaald worden bij Yn’e Mande. Sinterklaas wordt al een dagje ouder en zou het fijn vinden als de kinderen een (zelfgemaakte) pietenmuts/mijter dragen met daar duidelijk hun naam erop \n\nMet vriendelijke groet\, De Sinterklaascommissie \n\nDOWNLOAD ONDERSTAAND BESTAND VOOR ALLE INFO + KLEURPLATEN!
URL:https://tytsjerk.nl/event/sinterklaas-intocht-tytsjerk/
END:VEVENT
BEGIN:VEVENT
DTSTART;TZID=UTC:20211120T200000
DTEND;TZID=UTC:20211120T230000
DTSTAMP:20260423T223905
CREATED:20211022T212615Z
LAST-MODIFIED:20211022T213954Z
UID:545-1637438400-1637449200@tytsjerk.nl
SUMMARY:Janneke Warringa – FERLET
DESCRIPTION:Zangeres Janneke Warringa brengt een nieuw\, Friestalig liedjesprogramma met als thema en titel \n ‘Ferlet’\nFerlet betekent behoefte en verlangen. Verlangen \nDatum: zaterdag 20 november 2021 \n\nAanvang: 20:00\nEntree: €17\,50\nReserveren: culturelecommissietytsjerk@outlook.com\nWebsite Janneke\nWebsite Peter
URL:https://tytsjerk.nl/event/janneke-warringa-ferlet/
LOCATION:Yn’ e Mande
END:VEVENT
END:VCALENDAR